BEGIN:VCALENDAR
PRODID:-//AT Content Types//AT Event//EN
VERSION:2.0
METHOD:PUBLISH
BEGIN:VEVENT
DTSTAMP:20260424T072125Z
CREATED:20190123T133729Z
UID:ATEvent-033ca645051a48fe8d42b0116275437c
LAST-MODIFIED:20190123T133729Z
SUMMARY:FRC Dressage
DTSTART:20190713T120000Z
DTEND:20190713T210000Z
LOCATION:FENCE Equestrian Side
CATEGORIES:Schooling Show
CONTACT:Cathy Schwartz
URL:http://www.foothillsridingclub.org
CLASS:PUBLIC
END:VEVENT
END:VCALENDAR
