BEGIN:VCALENDAR
PRODID:-//AT Content Types//AT Event//EN
VERSION:1.0
BEGIN:VEVENT
DTSTART:20220904T120000Z
DTEND:20220904T220000Z
DCREATED:20211213T172647Z
UID:ATEvent-3174336609c74c178b73474c113d9755
SEQUENCE:0
LAST-MODIFIED:20220726T170341Z
SUMMARY:FRC Cross Country
LOCATION:Equestrian side/Cross Country Course
PRIORITY:3
TRANSP:0
END:VEVENT
END:VCALENDAR
