BEGIN:VCALENDAR
PRODID:-//AT Content Types//AT Event//EN
VERSION:2.0
METHOD:PUBLISH
BEGIN:VEVENT
DTSTAMP:20260423T105549Z
CREATED:20211213T163901Z
UID:ATEvent-ce9c297c6879445aa3504d7d76a79908
LAST-MODIFIED:20220209T152041Z
SUMMARY:FRC Cross Country Schooling
DTSTART:20220313T110000Z
DTEND:20220313T220000Z
LOCATION:Equestrian side/Cross Country Course
CATEGORIES:Horse Show
CLASS:PUBLIC
END:VEVENT
END:VCALENDAR
