BEGIN:VCALENDAR
PRODID:-//AT Content Types//AT Event//EN
VERSION:2.0
METHOD:PUBLISH
BEGIN:VEVENT
DTSTAMP:20260420T011838Z
CREATED:20210122T183328Z
UID:ATEvent-510e470a779e44a59405809b88c1c6c4
LAST-MODIFIED:20210122T183328Z
SUMMARY:FRC Cross Country Schooling
DTSTART:20210314T120000Z
DTEND:20210314T180000Z
LOCATION:FENCE Equestrian Side
CATEGORIES:Schooling
URL:http://foothillsridingclub.org
CLASS:PUBLIC
END:VEVENT
END:VCALENDAR
