BEGIN:VCALENDAR
PRODID:-//AT Content Types//AT Event//EN
VERSION:1.0
BEGIN:VEVENT
DTSTART:20160306T140000Z
DTEND:20160306T200000Z
DCREATED:20151026T193241Z
UID:ATEvent-f84bb830-8563-4c2e-8287-453cb8dd1850
SEQUENCE:0
LAST-MODIFIED:20151026T193241Z
SUMMARY:FRC Cross Country Schooling
LOCATION:FENCE Equestrian Side
PRIORITY:3
TRANSP:0
END:VEVENT
END:VCALENDAR
