BEGIN:VCALENDAR
PRODID:-//AT Content Types//AT Event//EN
VERSION:1.0
BEGIN:VEVENT
DTSTART:20220521T110000Z
DTEND:20220521T220000Z
DCREATED:20211213T165610Z
UID:ATEvent-660db5f6e1614f61bce2488dc919e061
SEQUENCE:0
LAST-MODIFIED:20220209T152139Z
SUMMARY:FRC Combined
LOCATION:Equestrian side
PRIORITY:3
TRANSP:0
END:VEVENT
END:VCALENDAR
