BEGIN:VCALENDAR
PRODID:-//AT Content Types//AT Event//EN
VERSION:1.0
BEGIN:VEVENT
DTSTART:20261031T130000Z
DTEND:20261031T230000Z
DCREATED:20260122T210128Z
UID:ATEvent-c2629c70649d46299664449f91e053de
SEQUENCE:0
LAST-MODIFIED:20260122T210128Z
SUMMARY:FRC Combined Training
PRIORITY:3
TRANSP:0
END:VEVENT
END:VCALENDAR
