BEGIN:VCALENDAR
PRODID:-//AT Content Types//AT Event//EN
VERSION:2.0
METHOD:PUBLISH
BEGIN:VEVENT
DTSTAMP:20260423T154516Z
CREATED:20251217T181448Z
UID:ATEvent-fc38b3b5dd764ac2b8a1af456da30c6e
LAST-MODIFIED:20251217T181448Z
SUMMARY:FRC Combined Training
DTSTART:20260905T120000Z
DTEND:20260905T210000Z
CATEGORIES:Horse Show
CLASS:PUBLIC
END:VEVENT
END:VCALENDAR
