BEGIN:VCALENDAR
PRODID:-//AT Content Types//AT Event//EN
VERSION:2.0
METHOD:PUBLISH
BEGIN:VEVENT
DTSTAMP:20260423T154504Z
CREATED:20251210T165958Z
UID:ATEvent-177ab8ccb45a43dda6728a775c6f55d4
LAST-MODIFIED:20251210T165958Z
SUMMARY:FRC Combined Training
DTSTART:20260321T120000Z
DTEND:20260321T210000Z
CATEGORIES:Horse Show
CLASS:PUBLIC
END:VEVENT
END:VCALENDAR
