BEGIN:VCALENDAR
PRODID:-//AT Content Types//AT Event//EN
VERSION:2.0
METHOD:PUBLISH
BEGIN:VEVENT
DTSTAMP:20260423T142107Z
CREATED:20231211T202444Z
UID:ATEvent-4386151942184487ab7c7ee1ea7706c4
LAST-MODIFIED:20231211T202444Z
SUMMARY:FRC Combined Training
DTSTART:20240907T120000Z
DTEND:20240908T210000Z
LOCATION:FENCE Equestrian Side
CATEGORIES:Horse Show
CLASS:PUBLIC
END:VEVENT
END:VCALENDAR
