BEGIN:VCALENDAR
PRODID:-//AT Content Types//AT Event//EN
VERSION:2.0
METHOD:PUBLISH
BEGIN:VEVENT
DTSTAMP:20260423T140132Z
CREATED:20230928T175804Z
UID:ATEvent-63e6b3a33e2d4afa98ba786ba5f021e5
LAST-MODIFIED:20230928T175804Z
SUMMARY:FRC Combined Training
DTSTART:20240323T130000Z
DTEND:20240323T210000Z
LOCATION:FENCE Equestrian Side
CATEGORIES:Horse Show
CLASS:PUBLIC
END:VEVENT
END:VCALENDAR
