BEGIN:VCALENDAR
PRODID:-//AT Content Types//AT Event//EN
VERSION:1.0
BEGIN:VEVENT
DTSTART:20230325T120000Z
DTEND:20230325T210000Z
DCREATED:20230117T195055Z
UID:ATEvent-626011ee80f148b494788e8180fb83c1
SEQUENCE:0
LAST-MODIFIED:20230117T195055Z
SUMMARY:FRC Combined Training
LOCATION:FENCE Equestrian Side
PRIORITY:3
TRANSP:0
END:VEVENT
END:VCALENDAR
