BEGIN:VCALENDAR
PRODID:-//AT Content Types//AT Event//EN
VERSION:2.0
METHOD:PUBLISH
BEGIN:VEVENT
DTSTAMP:20260423T114917Z
CREATED:20211213T163814Z
UID:ATEvent-b5e9a58af1a04e6781e49479a442dc1e
LAST-MODIFIED:20220209T152015Z
SUMMARY:FRC Combined Training
DTSTART:20220312T120000Z
DTEND:20220312T230000Z
LOCATION:Equestrian side
CATEGORIES:Horse Show
CLASS:PUBLIC
END:VEVENT
END:VCALENDAR
