BEGIN:VCALENDAR
PRODID:-//AT Content Types//AT Event//EN
VERSION:2.0
METHOD:PUBLISH
BEGIN:VEVENT
DTSTAMP:20260423T130808Z
CREATED:20211213T173740Z
UID:ATEvent-13262b5a12e04dc982411e1e47fec726
LAST-MODIFIED:20220726T170454Z
SUMMARY:FRC Combined
DTSTART:20221105T120000Z
DTEND:20221105T220000Z
LOCATION:Equestrian side
CATEGORIES:Horse Show
CLASS:PUBLIC
END:VEVENT
END:VCALENDAR
