BEGIN:VCALENDAR
PRODID:-//AT Content Types//AT Event//EN
VERSION:2.0
METHOD:PUBLISH
BEGIN:VEVENT
DTSTAMP:20260423T142016Z
CREATED:20211213T172620Z
UID:ATEvent-d5e493911e474436adda7fcded2ed30e
LAST-MODIFIED:20220726T125200Z
SUMMARY:FRC Combined
DTSTART:20220903T120000Z
DTEND:20220903T210000Z
LOCATION:Equestrian side
CATEGORIES:Horse Show
CLASS:PUBLIC
END:VEVENT
END:VCALENDAR
