BEGIN:VCALENDAR
PRODID:-//AT Content Types//AT Event//EN
VERSION:1.0
BEGIN:VEVENT
DTSTART:20220319T120000Z
DTEND:20220319T200000Z
DCREATED:20220128T181937Z
UID:ATEvent-7b0292af340542ddb24ce76202233354
SEQUENCE:0
LAST-MODIFIED:20220128T181937Z
SUMMARY:FRC Clinic
LOCATION:FENCE Equestrian side
PRIORITY:3
TRANSP:0
END:VEVENT
END:VCALENDAR
