BEGIN:VCALENDAR
PRODID:-//AT Content Types//AT Event//EN
VERSION:2.0
METHOD:PUBLISH
BEGIN:VEVENT
DTSTAMP:20260423T115706Z
CREATED:20130506T184927Z
UID:ATEvent-d4c0d3e7-b285-4b29-bb11-54a950443785
LAST-MODIFIED:20130506T190011Z
SUMMARY:Fragrant Plant Gardening Seminar
DTSTART:20130513T140000Z
DTEND:20130513T150000Z
DESCRIPTION:Join fellow gardening enthusiasts and amateurs at 10:00 A.
 M. on May 13\, 2013 at FENCE for a Fragrant Plant program.  Attend thi
 s “one of a kind” program to see\, feel AND smell great garden pla
 nts.   See small\, medium and large fragrant plants!  Learn how to add
  them to your garden and find out great landscape secrets to providing
  unexpected fragrance to your space.  This program is FREE and will be
  held in-doors rain or shine.  The program will be presented by Sondra
  Scoggins\, master gardener and owner of Motlow Creek Gardens.
LOCATION:FENCE Center/Great Room
CATEGORIES:Nature/Astronomy
CONTACT:Tracie Hanson\, 828-859-9021\, info@fence.org
CLASS:PUBLIC
END:VEVENT
END:VCALENDAR
