BEGIN:VCALENDAR
PRODID:-//AT Content Types//AT Event//EN
VERSION:1.0
BEGIN:VEVENT
DTSTART:20211113T150000Z
DTEND:20211113T173000Z
DCREATED:20211023T024715Z
UID:ATEvent-c0056bf40b97451ba53c9599a77f041f
SEQUENCE:0
LAST-MODIFIED:20211023T024715Z
SUMMARY:Forest Bathing-Conserving Carolina Event
DESCRIPTION:For more information about this event or to register pleas
 e contact Conserving Carolina.
LOCATION:FENCE Center
PRIORITY:3
TRANSP:0
END:VEVENT
END:VCALENDAR
