BEGIN:VCALENDAR
PRODID:-//AT Content Types//AT Event//EN
VERSION:2.0
METHOD:PUBLISH
BEGIN:VEVENT
DTSTAMP:20260423T105514Z
CREATED:20241219T151738Z
UID:ATEvent-c76a0296a9d94090b7fcd8327016b749
LAST-MODIFIED:20241219T151738Z
SUMMARY:Foothills Riding Club XC Schooling
DTSTART:20250323T130000Z
DTEND:20250323T210000Z
LOCATION:FENCE Equestrian
CATEGORIES:Horse Show
CONTACT:Margo Savage
URL:https://foothillsridingclub.org
CLASS:PUBLIC
END:VEVENT
END:VCALENDAR
