BEGIN:VCALENDAR
PRODID:-//AT Content Types//AT Event//EN
VERSION:1.0
BEGIN:VEVENT
DTSTART:20250405T130000Z
DTEND:20250406T210000Z
DCREATED:20241115T162637Z
UID:ATEvent-30a35b67626d44119ee6f4f40d9790f0
SEQUENCE:0
LAST-MODIFIED:20241219T152056Z
SUMMARY:Foothills Riding Club Working Equitation
LOCATION:FENCE Equestrian
PRIORITY:3
TRANSP:0
END:VEVENT
END:VCALENDAR
