BEGIN:VCALENDAR
PRODID:-//AT Content Types//AT Event//EN
VERSION:2.0
METHOD:PUBLISH
BEGIN:VEVENT
DTSTAMP:20260423T115610Z
CREATED:20241115T162514Z
UID:ATEvent-74245bb2e49e419b839e03e499681cda
LAST-MODIFIED:20241219T151616Z
SUMMARY:Foothills Riding Club Show
DTSTART:20250322T130000Z
DTEND:20250323T230000Z
LOCATION:FENCE Equestrian
CATEGORIES:Horse Show
CONTACT:Margo Savage
URL:https://foothillsridingclub.org
CLASS:PUBLIC
END:VEVENT
END:VCALENDAR
