BEGIN:VCALENDAR
PRODID:-//AT Content Types//AT Event//EN
VERSION:1.0
BEGIN:VEVENT
DTSTART:20251025T120000Z
DTEND:20251025T210000Z
DCREATED:20241119T154539Z
UID:ATEvent-6cc2cdabee834fe19aa78997921280f7
SEQUENCE:0
LAST-MODIFIED:20241219T205631Z
SUMMARY:Foothills Riding Club Horse Show
LOCATION:FENCE Equestrian
PRIORITY:3
TRANSP:0
END:VEVENT
END:VCALENDAR
