BEGIN:VCALENDAR
PRODID:-//AT Content Types//AT Event//EN
VERSION:1.0
BEGIN:VEVENT
DTSTART:20150308T050000Z
DTEND:20150308T050000Z
DCREATED:20150113T211208Z
UID:ATEvent-9d4ccfed-14c1-4dd6-9a67-03ed9a21f579
SEQUENCE:0
LAST-MODIFIED:20150113T211240Z
SUMMARY:Foothills Riding Club Cross Country Schooling
LOCATION:Fence Center
PRIORITY:3
TRANSP:0
END:VEVENT
END:VCALENDAR
