BEGIN:VCALENDAR
PRODID:-//AT Content Types//AT Event//EN
VERSION:2.0
METHOD:PUBLISH
BEGIN:VEVENT
DTSTAMP:20260423T115636Z
CREATED:20241119T150931Z
UID:ATEvent-c815dd3f0bad41bfab9376c0ab6eece8
LAST-MODIFIED:20241219T204820Z
SUMMARY:Foothills Riding Club Combine Training
DTSTART:20250906T120000Z
DTEND:20250907T210000Z
LOCATION:FENCE Equestrian
CATEGORIES:Horse Show
CONTACT:Margo Savage
URL:https://foothillsridingclub.org
CLASS:PUBLIC
END:VEVENT
END:VCALENDAR
