BEGIN:VCALENDAR
PRODID:-//AT Content Types//AT Event//EN
VERSION:1.0
BEGIN:VEVENT
DTSTART:20210919T140000Z
DTEND:20210919T190000Z
DCREATED:20210802T135213Z
UID:ATEvent-615c1fada13f4f7bb0a062d2d6838fe0
SEQUENCE:0
LAST-MODIFIED:20210915T163643Z
SUMMARY:Foothills Fall Field Hunter Trials
DESCRIPTION:PRIZES AND RIBBONS\nFirst through Sixth place\nCASH PRIZES
 \nFirst through Third place\nSPECIAL AWARDS:\nBest Turned Out\, Best S
 portsman\, Hunt with most Competitors\nALL LEVELS OF FIELD HUNTERS\, I
 NCLUDING NEW TO THE\nSPORT ARE WELCOME!\nBenefit for charity:\nSportin
 g Hounds Foundation\nof Tryon
LOCATION:FENCE Cross Country
PRIORITY:3
TRANSP:0
END:VEVENT
END:VCALENDAR
