BEGIN:VCALENDAR
PRODID:-//AT Content Types//AT Event//EN
VERSION:1.0
BEGIN:VEVENT
DTSTART:20131019T210000Z
DTEND:20131020T020000Z
DCREATED:20131015T175050Z
UID:ATEvent-e5c620fa-21f9-4ea0-96e9-a0f1d06a69f7
SEQUENCE:0
LAST-MODIFIED:20131015T175050Z
SUMMARY:Foothills Chamber of Commerce presents: Shuckin n Shaggin
DESCRIPTION:For more information please contact the Foothills Chamber 
 of Commerce at 828-859-6236
PRIORITY:3
TRANSP:0
END:VEVENT
END:VCALENDAR
