BEGIN:VCALENDAR
PRODID:-//AT Content Types//AT Event//EN
VERSION:2.0
METHOD:PUBLISH
BEGIN:VEVENT
DTSTAMP:20260423T105648Z
CREATED:20080507T014821Z
UID:ATEvent-a05a4a3d-1fb2-4055-b3bb-7c778c35db5b
LAST-MODIFIED:20080507T014821Z
SUMMARY:Foothills Astronomy Society Meeting
DTSTART:20080620T233000Z
DTEND:20080621T013000Z
LOCATION:FENCE Center Great Room
CLASS:PUBLIC
END:VEVENT
END:VCALENDAR
