BEGIN:VCALENDAR
PRODID:-//AT Content Types//AT Event//EN
VERSION:1.0
BEGIN:VEVENT
DTSTART:20120916T173000Z
DTEND:20120916T203000Z
DCREATED:20120813T154639Z
UID:ATEvent-aeca0d7e-82f9-437a-9fd1-8ad3ad03a556
SEQUENCE:0
LAST-MODIFIED:20120911T153119Z
SUMMARY:Foothills Humane Society "dog show"
LOCATION:FENCE Covered Arean
PRIORITY:3
TRANSP:0
END:VEVENT
END:VCALENDAR
