BEGIN:VCALENDAR
PRODID:-//AT Content Types//AT Event//EN
VERSION:2.0
METHOD:PUBLISH
BEGIN:VEVENT
DTSTAMP:20260423T115242Z
CREATED:20151002T134307Z
UID:ATEvent-a57dd7cc-0fbf-4870-9b38-f54de53fdac7
LAST-MODIFIED:20151002T134604Z
SUMMARY:FENCE Wine and Paint Night
DTSTART:20151105T230000Z
DTEND:20151106T013000Z
DESCRIPTION:Join us for a night of fun\, painting\, and wine. See the 
 attached flyer for more information.
LOCATION:FENCE Center
CATEGORIES:Family
CONTACT:Amy Schmitte\, 828-859-9021\, info@fence.org
CLASS:PUBLIC
END:VEVENT
END:VCALENDAR
