BEGIN:VCALENDAR
PRODID:-//AT Content Types//AT Event//EN
VERSION:1.0
BEGIN:VEVENT
DTSTART:20210713T200000Z
DTEND:20210714T000000Z
DCREATED:20210629T152013Z
UID:ATEvent-51e1840b9f93445aaa85fbd64625d5e6
SEQUENCE:0
LAST-MODIFIED:20210629T152013Z
SUMMARY:FENCE Tuesday Night Fun Schooling Nights
LOCATION:FENCE Equestrian Side
PRIORITY:3
TRANSP:0
END:VEVENT
END:VCALENDAR
