BEGIN:VCALENDAR
PRODID:-//AT Content Types//AT Event//EN
VERSION:1.0
BEGIN:VEVENT
DTSTART:20210810T200000Z
DTEND:20210811T000000Z
DCREATED:20210629T152140Z
UID:ATEvent-dc1332bd4a0c469cbec9fe0cedc115d0
SEQUENCE:0
LAST-MODIFIED:20210629T152141Z
SUMMARY:FENCE Tuesday Night Fun Schooling Nights
LOCATION:FENCE Equestrian Side
PRIORITY:3
TRANSP:0
END:VEVENT
END:VCALENDAR
