BEGIN:VCALENDAR
PRODID:-//AT Content Types//AT Event//EN
VERSION:2.0
METHOD:PUBLISH
BEGIN:VEVENT
DTSTAMP:20260419T162658Z
CREATED:20210629T152105Z
UID:ATEvent-ece92424968f44228f83a9415ad0dd17
LAST-MODIFIED:20210629T152105Z
SUMMARY:FENCE Tuesday Night Fun Schooling Nights
DTSTART:20210727T200000Z
DTEND:20210728T000000Z
LOCATION:FENCE Equestrian Side
CATEGORIES:Schooling
CONTACT:Tracie Hanson\, 8288599021\, info@fence.org
CLASS:PUBLIC
END:VEVENT
END:VCALENDAR
