BEGIN:VCALENDAR
PRODID:-//AT Content Types//AT Event//EN
VERSION:1.0
BEGIN:VEVENT
DTSTART:20080623T123000Z
DTEND:20080627T160000Z
DCREATED:20080507T015716Z
UID:ATEvent-45afc878-a1ec-49d7-8b1a-f533b9013a15
SEQUENCE:0
LAST-MODIFIED:20080507T015716Z
SUMMARY:FENCE Summer Day Camp: Beginner Horse Camp
DESCRIPTION:A week of introducing campers to being around\, and caring
  for\, horses.
LOCATION:FENCE Grounds
PRIORITY:3
TRANSP:0
END:VEVENT
END:VCALENDAR
