BEGIN:VCALENDAR
PRODID:-//AT Content Types//AT Event//EN
VERSION:1.0
BEGIN:VEVENT
DTSTART:20121110T120000Z
DTEND:20121111T220000Z
DCREATED:20120816T162712Z
UID:ATEvent-4b238ab7-03b8-4dbe-acd8-8c28df238759
SEQUENCE:0
LAST-MODIFIED:20121106T194836Z
SUMMARY:FENCE Sponsored Driving Clinic
DESCRIPTION:With well known licensed judge and clinician Craig Kellogg
 \, private dressage lessons on Saturday and Cones and Obstacles on Sun
 day.
LOCATION:FENCE Covered Arena
PRIORITY:3
TRANSP:0
END:VEVENT
END:VCALENDAR
