BEGIN:VCALENDAR
PRODID:-//AT Content Types//AT Event//EN
VERSION:1.0
BEGIN:VEVENT
DTSTART:20241005T120000Z
DTEND:20241005T210000Z
DCREATED:20231211T203603Z
UID:ATEvent-ccade59a73a34fae8df6f40c793e5471
SEQUENCE:0
LAST-MODIFIED:20231211T203603Z
SUMMARY:FENCE Schooling Show
LOCATION:FENCE Equestrian Side
PRIORITY:3
TRANSP:0
END:VEVENT
END:VCALENDAR
