BEGIN:VCALENDAR
PRODID:-//AT Content Types//AT Event//EN
VERSION:1.0
BEGIN:VEVENT
DTSTART:20230616T220000Z
DTEND:20230617T010000Z
DCREATED:20230117T200149Z
UID:ATEvent-3fca61cdd43a41dc9b9687125df6a0c9
SEQUENCE:0
LAST-MODIFIED:20230607T133606Z
SUMMARY:FENCE Rodeo
DESCRIPTION:Tickets can be purchased at the gate the day of the event.
  $15 per person\, children 12 and under are free. There will be food a
 nd drinks available for purchase. Gate open at 6pm
LOCATION:FENCE Equestrian Side
PRIORITY:3
TRANSP:0
END:VEVENT
END:VCALENDAR
