BEGIN:VCALENDAR
PRODID:-//AT Content Types//AT Event//EN
VERSION:2.0
METHOD:PUBLISH
BEGIN:VEVENT
DTSTAMP:20260423T130926Z
CREATED:20220506T145201Z
UID:ATEvent-4ffe0cec525e409cab89057891c2cb41
LAST-MODIFIED:20220506T175701Z
SUMMARY:FENCE Rodeo
DTSTART:20220618T233000Z
DTEND:20220619T020000Z
LOCATION:FENCE Equestrian Side
CATEGORIES:Horse Show
CONTACT:Tracie Hanson\, 8288599021\, info@fence.org
CLASS:PUBLIC
END:VEVENT
END:VCALENDAR
