BEGIN:VCALENDAR
PRODID:-//AT Content Types//AT Event//EN
VERSION:2.0
METHOD:PUBLISH
BEGIN:VEVENT
DTSTAMP:20260423T114913Z
CREATED:20211213T170400Z
UID:ATEvent-59d7a39785f2454cb55c198e9a0df2b3
LAST-MODIFIED:20220506T175529Z
SUMMARY:FENCE Rodeo
DTSTART:20220617T233000Z
DTEND:20220618T020000Z
LOCATION:Equestrian side
CATEGORIES:Horse Show
CONTACT:8288599021\, info@fence.org
CLASS:PUBLIC
END:VEVENT
END:VCALENDAR
