BEGIN:VCALENDAR
PRODID:-//AT Content Types//AT Event//EN
VERSION:2.0
METHOD:PUBLISH
BEGIN:VEVENT
DTSTAMP:20260423T114851Z
CREATED:20181016T201725Z
UID:ATEvent-c297cd2a8ab24fcea40bad0f2096116b
LAST-MODIFIED:20190624T204359Z
SUMMARY:FENCE Rodeo
DTSTART:20190628T233000Z
DTEND:20190629T020000Z
DESCRIPTION:FENCE invites everyone to enjoy an entertaining evening at
  its Third Annual Round-Up Rodeo on Friday\, June 28 and Saturday\, Ju
 ne 29\, 2019. The rodeo begins at 7:30 p.m. with gates opening at 6 p.
 m. Tickets are available for purchase at the gate\, with kids 12 and u
 nder being free. The FENCE Roundup Rodeo is sanctioned by the Internat
 ional Professional Rodeo Association (IPRA).
LOCATION:FENCE Equestrian Side
CATEGORIES:Horse Show
CONTACT:Tracie Hanson\, 828-859-9021\, info@fence.org
CLASS:PUBLIC
END:VEVENT
END:VCALENDAR
