BEGIN:VCALENDAR
PRODID:-//AT Content Types//AT Event//EN
VERSION:1.0
BEGIN:VEVENT
DTSTART:20180630T233000Z
DTEND:20180701T020000Z
DCREATED:20180621T142338Z
UID:ATEvent-70dc3bd4a9f447cfa4f8aeda9f3d409f
SEQUENCE:0
LAST-MODIFIED:20180621T142338Z
SUMMARY:FENCE Rodeo
LOCATION:FENCE Equestrian Side
PRIORITY:3
TRANSP:0
END:VEVENT
END:VCALENDAR
