BEGIN:VCALENDAR
PRODID:-//AT Content Types//AT Event//EN
VERSION:1.0
BEGIN:VEVENT
DTSTART:20260612T230000Z
DTEND:20260614T020000Z
DCREATED:20251217T180658Z
UID:ATEvent-8ce7a04b93e644c68408d5fe38e95614
SEQUENCE:0
LAST-MODIFIED:20260122T192241Z
SUMMARY:FENCE Rodeo
DESCRIPTION:BULL RIDING\, SADDLE BRONC RIDING\, COWGIRLS BREAKAWAY ROP
 ING\, TEAM ROPING\, BARREL RACING\, & TIE-DOWN ROPING.
PRIORITY:3
TRANSP:0
END:VEVENT
END:VCALENDAR
