BEGIN:VCALENDAR
PRODID:-//AT Content Types//AT Event//EN
VERSION:1.0
BEGIN:VEVENT
DTSTART:20240614T220000Z
DTEND:20240616T021000Z
DCREATED:20230928T190432Z
UID:ATEvent-3b27971302a24e9e9d2ca1684187c94e
SEQUENCE:0
LAST-MODIFIED:20231009T193750Z
SUMMARY:FENCE Rodeo
LOCATION:FENCE Equestrian Side
PRIORITY:3
TRANSP:0
END:VEVENT
END:VCALENDAR
