BEGIN:VCALENDAR
PRODID:-//AT Content Types//AT Event//EN
VERSION:1.0
BEGIN:VEVENT
DTSTART:20180629T233000Z
DTEND:20180630T020000Z
DCREATED:20180116T155329Z
UID:ATEvent-e28b9e08a7e14cc48712070fa4bd0175
SEQUENCE:0
LAST-MODIFIED:20180621T142201Z
SUMMARY:FENCE Rodeo
LOCATION:FENCE Equestrian Side
PRIORITY:3
TRANSP:0
END:VEVENT
END:VCALENDAR
