BEGIN:VCALENDAR
PRODID:-//AT Content Types//AT Event//EN
VERSION:2.0
METHOD:PUBLISH
BEGIN:VEVENT
DTSTAMP:20260423T105206Z
CREATED:20210402T193647Z
UID:ATEvent-31f7c3248b034a46a156210d025d2666
LAST-MODIFIED:20210402T193648Z
SUMMARY:FENCE Open Show
DTSTART:20210522T130000Z
DTEND:20210522T200000Z
LOCATION:FENCE Equestrian Side
CATEGORIES:Horse Show
CONTACT:Tracie Hanson\, 8288599021\, info@fence.org
CLASS:PUBLIC
END:VEVENT
END:VCALENDAR
