BEGIN:VCALENDAR
PRODID:-//AT Content Types//AT Event//EN
VERSION:2.0
METHOD:PUBLISH
BEGIN:VEVENT
DTSTAMP:20260423T142221Z
CREATED:20140103T191904Z
UID:ATEvent-2f00252e-14b1-4d18-92f6-42ee1f42decb
LAST-MODIFIED:20140224T222336Z
SUMMARY:FENCE Open Horse Show
DTSTART:20140405T120000Z
DTEND:20140405T210000Z
DESCRIPTION:Come join us for a fun filled day! Western\, English\, Hun
 t Seat\, Trail\, and Gaited Classes. All horse breeds welcome!  It is 
 $10 per class and High Point Awards.\nCheck it out on facebook: Open H
 orse Shows in the Upstate
LOCATION:FENCE EQ side
CATEGORIES:Horse Show
CONTACT:Sue Truitt\, 864-457-2718\, suetruitt@manegate.net
CLASS:PUBLIC
END:VEVENT
END:VCALENDAR
