BEGIN:VCALENDAR
PRODID:-//AT Content Types//AT Event//EN
VERSION:2.0
METHOD:PUBLISH
BEGIN:VEVENT
DTSTAMP:20260423T115329Z
CREATED:20181016T195402Z
UID:ATEvent-efc6d2403b6b45989334bcd5e7db92f8
LAST-MODIFIED:20181016T195403Z
SUMMARY:FENCE Open Horse Show
DTSTART:20190427T130000Z
DTEND:20190427T210000Z
CATEGORIES:Horse Show
CONTACT:Tracie Hanson\, 828-859-9021\, info@fence.org
CLASS:PUBLIC
END:VEVENT
END:VCALENDAR
