BEGIN:VCALENDAR
PRODID:-//AT Content Types//AT Event//EN
VERSION:1.0
BEGIN:VEVENT
DTSTART:20180428T130000Z
DTEND:20180428T210000Z
DCREATED:20170830T153548Z
UID:ATEvent-aafcab5b3d0a40f78481f4cbd4afe876
SEQUENCE:0
LAST-MODIFIED:20170830T153548Z
SUMMARY:FENCE Open Horse Show
LOCATION:FENCE Equestrian Side
PRIORITY:3
TRANSP:0
END:VEVENT
END:VCALENDAR
