BEGIN:VCALENDAR
PRODID:-//AT Content Types//AT Event//EN
VERSION:2.0
METHOD:PUBLISH
BEGIN:VEVENT
DTSTAMP:20260423T154711Z
CREATED:20170105T192430Z
UID:ATEvent-a7c445fc61824a38a8fcd50bc8daeae4
LAST-MODIFIED:20170105T192431Z
SUMMARY:FENCE Open Horse Show
DTSTART:20170923T040000Z
DTEND:20170924T035500Z
LOCATION:FENCE Equestrian Side
CATEGORIES:Horse Show
CONTACT:Tracie Hanson\, 8288599021\, info@fence.org
CLASS:PUBLIC
END:VEVENT
END:VCALENDAR
