BEGIN:VCALENDAR
PRODID:-//AT Content Types//AT Event//EN
VERSION:1.0
BEGIN:VEVENT
DTSTART:20170429T130000Z
DTEND:20170429T210000Z
DCREATED:20170105T173426Z
UID:ATEvent-d855c0ca1fb246659b1ecc02e2618067
SEQUENCE:0
LAST-MODIFIED:20170105T173427Z
SUMMARY:FENCE Open Horse Show
LOCATION:FENCE Equestrian Side
PRIORITY:3
TRANSP:0
END:VEVENT
END:VCALENDAR
