BEGIN:VCALENDAR
PRODID:-//AT Content Types//AT Event//EN
VERSION:1.0
BEGIN:VEVENT
DTSTART:20160910T120000Z
DTEND:20160910T210000Z
DCREATED:20151110T210331Z
UID:ATEvent-711d66d7-4edb-403f-b198-21dc17a766cb
SEQUENCE:0
LAST-MODIFIED:20151110T210331Z
SUMMARY:FENCE Open Horse Show
LOCATION:FENCE Equestrian Side
PRIORITY:3
TRANSP:0
END:VEVENT
END:VCALENDAR
